BEGIN:VCALENDAR
VERSION:2.0
PRODID:-//Tukios.com/
BEGIN:VEVENT
UID:f60ee06f-fc8b-455c-9f50-825942693462@www.raderfuneralhome.com
DTSTAMP:20260424T222241Z
DTSTART:20260428T150000Z
DTEND:20260428T160000Z
SUMMARY:Funeral Service
DESCRIPTION:
URL:https://www.raderfuneralhome.com/obituaries/sue-clements
LOCATION:Danville Cemetery Pavilion County Road 2453  Kilgore TX 75662
GEO:32.4018969;-94.8302642
END:VEVENT
END:VCALENDAR