BEGIN:VCALENDAR
VERSION:2.0
PRODID:-//Tukios.com/
BEGIN:VEVENT
UID:84362445-aaf7-4389-8867-a186498817e3@www.raderfuneralhome.com
DTSTAMP:20260424T222304Z
DTSTART:20260427T220000Z
DTEND:20260428T000000Z
SUMMARY:Visitation
DESCRIPTION:
URL:https://www.raderfuneralhome.com/obituaries/sue-clements
LOCATION:Rader Funeral Home 401 N Martin St  Kilgore TX 75662
GEO:32.3879842;-94.8722384
END:VEVENT
END:VCALENDAR