BEGIN:VCALENDAR
VERSION:2.0
PRODID:-//Tukios.com/
BEGIN:VEVENT
UID:cfe23283-d3f0-44b1-a3f4-7312d95deb9e@www.raderfuneralhome.com
DTSTAMP:20260422T025233Z
DTSTART:20260427T203000Z
DTEND:20260427T213000Z
SUMMARY:Burial
DESCRIPTION:
URL:https://www.raderfuneralhome.com/obituaries/melvin-henry-jr
LOCATION: Hwy 31 West  Kilgore TX 75662
GEO:32.3862619;-94.8757709
END:VEVENT
END:VCALENDAR