BEGIN:VCALENDAR
VERSION:2.0
PRODID:-//Tukios.com/
BEGIN:VEVENT
UID:392aa726-29ea-4b2b-8cd2-47707d4a34a1@www.raderfuneralhome.com
DTSTAMP:20260422T024913Z
DTSTART:20260427T190000Z
DTEND:20260427T200000Z
SUMMARY:Funeral Service
DESCRIPTION:
URL:https://www.raderfuneralhome.com/obituaries/melvin-henry-jr
LOCATION: 1567 Farm-to-Market 1252 West  Kilgore TX 75662
GEO:32.4389118;-94.8850326
END:VEVENT
END:VCALENDAR