BEGIN:VCALENDAR
VERSION:2.0
PRODID:-//Tukios.com/
BEGIN:VEVENT
UID:439e8272-a6e4-46ca-8bf9-bafa4a171c11@www.raderfuneralhome.com
DTSTAMP:20260422T025037Z
DTSTART:20260426T210000Z
DTEND:20260426T230000Z
SUMMARY:Visitation
DESCRIPTION:Rader Funeral Home
URL:https://www.raderfuneralhome.com/obituaries/melvin-henry-jr
LOCATION: 401 N Martin St  Kilgore TX 75662
GEO:32.3879842;-94.8722384
END:VEVENT
END:VCALENDAR