BEGIN:VCALENDAR
VERSION:2.0
PRODID:-//Tukios.com/
BEGIN:VEVENT
UID:10f0a0ce-d959-4dd7-9ddc-5212c6ee31ba@www.raderfuneralhome.com
DTSTAMP:20260420T065607Z
DTSTART:20260421T200000Z
DTEND:20260421T210000Z
SUMMARY:Funeral Service
DESCRIPTION:
URL:https://www.raderfuneralhome.com/obituaries/jane-henley
LOCATION: 815 East Main Street  Kilgore TX 75662
GEO:32.3811508;-94.870845
END:VEVENT
END:VCALENDAR