BEGIN:VCALENDAR
VERSION:2.0
PRODID:-//Tukios.com/
BEGIN:VEVENT
UID:ad8a2340-18cd-4815-b56e-36669b9e1f0b@www.raderfuneralhome.com
DTSTAMP:20260420T065607Z
DTSTART:20260420T223000Z
DTEND:20260421T000000Z
SUMMARY:Visitation
DESCRIPTION:
URL:https://www.raderfuneralhome.com/obituaries/jane-henley
LOCATION: 401 N Martin St  Kilgore TX 75662
GEO:32.3879842;-94.8722384
END:VEVENT
END:VCALENDAR