BEGIN:VCALENDAR
VERSION:2.0
PRODID:-//Tukios.com/
BEGIN:VEVENT
UID:3a69a181-d601-407f-bc3b-8c6c50a162d2@www.raderfuneralhome.com
DTSTAMP:20260423T050848Z
DTSTART:20260424T160000Z
DTEND:20260424T170000Z
SUMMARY:Burial
DESCRIPTION:
URL:https://www.raderfuneralhome.com/obituaries/billy-dixon
LOCATION:  Danville Road  Kilgore TX 75662
GEO:32.400951;-94.8278913
END:VEVENT
END:VCALENDAR