BEGIN:VCALENDAR
VERSION:2.0
PRODID:-//Tukios.com/
BEGIN:VEVENT
UID:e369f29c-d68d-4f5d-b7b3-b61393902310@www.raderfuneralhome.com
DTSTAMP:20260423T050849Z
DTSTART:20260424T150000Z
DTEND:20260424T160000Z
SUMMARY:Funeral Service
DESCRIPTION:
URL:https://www.raderfuneralhome.com/obituaries/billy-dixon
LOCATION: 401 N Martin St  Kilgore TX 75662
GEO:32.3879842;-94.8722384
END:VEVENT
END:VCALENDAR