BEGIN:VCALENDAR
VERSION:2.0
PRODID:-//Tukios.com/
BEGIN:VEVENT
UID:47319dd1-f21f-42c8-8420-13ecfce903c9@www.raderfuneralhome.com
DTSTAMP:20260423T050848Z
DTSTART:20260423T230000Z
DTEND:20260424T010000Z
SUMMARY:Visitation
DESCRIPTION:Chapel of Rader Funeral Home
URL:https://www.raderfuneralhome.com/obituaries/billy-dixon
LOCATION: 401 N Martin St  Kilgore TX 75662
GEO:32.3879842;-94.8722384
END:VEVENT
END:VCALENDAR